BEGIN:VCALENDAR
VERSION:2.0
PRODID:-//camtswift tours and travel - ECPv6.9.0//NONSGML v1.0//EN
CALSCALE:GREGORIAN
METHOD:PUBLISH
X-WR-CALNAME:camtswift tours and travel
X-ORIGINAL-URL:https://rixingmachinery.co.ke
X-WR-CALDESC:Events for camtswift tours and travel
REFRESH-INTERVAL;VALUE=DURATION:PT1H
X-Robots-Tag:noindex
X-PUBLISHED-TTL:PT1H
BEGIN:VTIMEZONE
TZID:UTC
BEGIN:STANDARD
TZOFFSETFROM:+0000
TZOFFSETTO:+0000
TZNAME:UTC
DTSTART:20240101T000000
END:STANDARD
END:VTIMEZONE
BEGIN:VEVENT
DTSTART;TZID=UTC:20250509T080000
DTEND;TZID=UTC:20250522T170000
DTSTAMP:20260421T022252
CREATED:20250411T041044Z
LAST-MODIFIED:20250420T151833Z
UID:261-1746777600-1747933200@rixingmachinery.co.ke
SUMMARY:12 Days 11 Nights Aberdare\, Samburu\, L.Nakuru\, L.Naivasha\, Masai Mara Safari
DESCRIPTION:You will be picked up from the Jomo Kenyatta International Airport and dropped off at the Ole Sereni Hotel. The trip is worth taking the time to explore Nairobi\, which is both your getaway to so many safari experiences and a fascinating destination in its own right. Here you’ll find museums\, national parks\, and excellent shopping centers to go to among others. You will get to spend at the Ole sereni hotel. It is a lively place with extensive views out over the national park\, as well as first-rate facilities that include a swimming pool\, bars\, restaurant\, modern rooms\, and nightlife.
URL:https://rixingmachinery.co.ke/event/12-days-11-nights-aberdare-samburu-l-nakuru-l-naivasha-masai-mara-safari/
LOCATION:Kenya\, Maasai Mara\, Narok\, Kenya
CATEGORIES:Bush Safaris,Holiday Packages
ATTACH;FMTTYPE=image/jpeg:https://rixingmachinery.co.ke/wp-content/uploads/2025/04/kiboko.jpg
END:VEVENT
BEGIN:VEVENT
DTSTART;VALUE=DATE:20250509
DTEND;VALUE=DATE:20250510
DTSTAMP:20260421T022252
CREATED:20250411T041119Z
LAST-MODIFIED:20250420T145842Z
UID:262-1746748800-1746835199@rixingmachinery.co.ke
SUMMARY:3 Days 2 Nights Maasai Masa
DESCRIPTION:A safari to the Maasai Mara is an unforgettable experience. The Maasai Mara Reserve is home to the Big 5 with\nbig game concentration. It is one of the most famous and important wildlife conservation and wilderness areas\nin Africa\, World’s renowned for its exceptional populations of Lion\, African Leopard\, Cheetah\, Rhino and the\nAfrican Bush Elephant.\nThe Reserve offers stunning landscapes\, diverse wildlife\, and a glimpse into the rich culture of the Maasai people. \nDAY 1: ELDORET – MASAI MARA \nYou’ll be picked from your residential area at around 5:30 a.m. Depart Eldoret at 6:00 a.m. Proceed to Maasai\nMara\, have a few stopovers on the way for self- sponsored breakfast and snacks. Upon arrival\, check in at\nSentrim Mara Lodge and enjoy lunch at the hotel. After lunch\, relax and get comfortable at the camp.\nFrom 15:30 p.m. to 6:30 p.m.\, embark on an evening game drive in the breathtaking Maasai Mara. Return to the hotel for dinner and an overnight stay.. ( Meals Day 1 Lunch and Dinner) \nDAY 2: FULL DAY GAME DRIVE MASAI MARA \nA whole day game drive from the comfortable base of the reserve\, explore the parks amazingly\nhigh concentration of game.\nThis game reserve is Kenya’s finest wildlife sanctuary. Including migrants\, well over 450 species of animals\nhave been recorded here.\nJuly\, August and September is the best time to visit the rich reserve\, as it coincides with the Great\nmigration\, when over 1.5 million wildebeests and hundreds of thousands of zebras and gazelles cross the Mara\nriver from Serengeti in Tanzania to the Maasai Mara. However\, in January\, while the concentration of\nanimals is a bit lower due to the wildebeests migrating back to Serengeti\, Maasai Mara still\noffers an exciting safari. You can enjoy sightings of resident wildebeests\, along with a variety of\nother wildlife such as zebras\, gazelles\, and predators.\n(Although wildlife sightings may require patience and sometimes a bit of luck).\nPicnic lunch will be enjoyed at the park. Leave the park in the evening. Dinner and overnight at the camp. (Meals day 2: Breakfast \,lunch\, dinner). \nDAY 3: JANUARY 2O25 DEPARTURE TO ELDORET \nYou will spend a little more time at the camp as you enjoy your breakfast.\nAfterwards you will check out from the hotel by 09:30am and depart back to eldoret.\nThis is when your tour with us draws to a close. As you journey back to Eldoret\, we have no doubt that you\nleave with so many wonderful experiences that will remain memorable. (Meals day 3: Breakfast only). \nPRICE INCLUSIVE OF; \n\nTransport in a comfortable pop-up roof Landcruiser Vehicle\n2 Nights’ accommodation at Sentrim Mara Lodge\nMeals on full board basis (Dinner-X2\, Breakfast-X2\, Lunch-X2)\nComprehensive Game drives\nTour Guide services (the driver)\nBottle of drinking water during the safari.\n\nCOST EXCLUSIVE OF; \n\nPark Entry fees\n-Ksh 3\,000 per day per head (X2 days = Ksh 6\,000)\nAlcoholic and non-alcoholic beverages\nTips and Gratuities\nAnything not mentioned on the cost inclusive\n\nCANCELLATION AND REFUND POLICY \nKINDLY NOTE;\nOur cancellation charges are determined by the fact that we have booked with hotels and other service\nproviders. They will charge us a cancellation fee for the same.\nGenerally; \n\n5-7days to trip 50 %charge on cancellations.\n3-4 days to trip 75%charge on cancellations.\n48 hours to trip 100% charge\, no refund on the same.\nKindly take Note of that whenever you booking a safari with us.\nTHANK YOU FOR BOOKING WITH US
URL:https://rixingmachinery.co.ke/event/3-days-2-nights-maasai-mara/
LOCATION:Kenya\, Maasai Mara\, Narok\, Kenya
CATEGORIES:Domestic Tours
ATTACH;FMTTYPE=image/jpeg:https://rixingmachinery.co.ke/wp-content/uploads/2025/01/group-zebras-africa-scaled.jpg
END:VEVENT
BEGIN:VEVENT
DTSTART;TZID=UTC:20240911T080000
DTEND;TZID=UTC:20240911T170000
DTSTAMP:20260421T022252
CREATED:20230111T040942Z
LAST-MODIFIED:20250420T150355Z
UID:259-1726041600-1726074000@rixingmachinery.co.ke
SUMMARY:10 Days 9 Nights Kenya Wildlife & Beach Safari
DESCRIPTION:Sed ut perspiciatis unde omnis iste natus error sit voluptatem accusantium doloremque laudantium\, totam rem aperiam\, eaque ipsa quae ab illo. \nSed ut perspiciatis unde omnis iste natus error sit voluptatem accusantium doloremque laudantium\, totam rem aperiam\, eaque ipsa quae ab illo inventore veritatis et quasi architecto beatae vitae dicta sunt explicabo. Nemo enim ipsam voluptatem quia voluptas sit aspernatur aut odit aut fugit\, sed quia consequuntur magni dolores eos qui ratione voluptatem sequi nesciunt.
URL:https://rixingmachinery.co.ke/event/10-days-9-nights-kenya-wildlife-beach-safari/
LOCATION:New York\, 8 King Street\, NY\, 101\, United States
CATEGORIES:Bush Safaris,Holiday Packages
ATTACH;FMTTYPE=image/jpeg:https://rixingmachinery.co.ke/wp-content/uploads/2023/01/event-2.jpg
ORGANIZER;CN="Gary Jones":MAILTO:events@example.com
END:VEVENT
BEGIN:VEVENT
DTSTART;TZID=UTC:20240908T080000
DTEND;TZID=UTC:20240908T170000
DTSTAMP:20260421T022252
CREATED:20230111T041159Z
LAST-MODIFIED:20250420T151104Z
UID:263-1725782400-1725814800@rixingmachinery.co.ke
SUMMARY:5 DAYS 4 NIGHTS IN DUBAI
DESCRIPTION:Sed ut perspiciatis unde omnis iste natus error sit voluptatem accusantium doloremque laudantium\, totam rem aperiam\, eaque ipsa quae ab illo. \nSed ut perspiciatis unde omnis iste natus error sit voluptatem accusantium doloremque laudantium\, totam rem aperiam\, eaque ipsa quae ab illo inventore veritatis et quasi architecto beatae vitae dicta sunt explicabo. Nemo enim ipsam voluptatem quia voluptas sit aspernatur aut odit aut fugit\, sed quia consequuntur magni dolores eos qui ratione voluptatem sequi nesciunt.
URL:https://rixingmachinery.co.ke/event/5-days-4-nights-in-dubai/
LOCATION:New York\, 8 King Street\, NY\, 101\, United States
CATEGORIES:Dubai Holiday Packages,Holiday Packages
ATTACH;FMTTYPE=image/jpeg:https://rixingmachinery.co.ke/wp-content/uploads/2023/01/event-6.jpg
ORGANIZER;CN="Gary Jones":MAILTO:events@example.com
END:VEVENT
BEGIN:VEVENT
DTSTART;TZID=UTC:20240509T080000
DTEND;TZID=UTC:20240509T170000
DTSTAMP:20260421T022252
CREATED:20230111T040750Z
LAST-MODIFIED:20250420T150845Z
UID:252-1715241600-1715274000@rixingmachinery.co.ke
SUMMARY:6 Days\, 5 Nights Dubai Safari – From Nairobi\, Kenya To Dubai
DESCRIPTION:Sed ut perspiciatis unde omnis iste natus error sit voluptatem accusantium doloremque laudantium\, totam rem aperiam\, eaque ipsa quae ab illo. \nSed ut perspiciatis unde omnis iste natus error sit voluptatem accusantium doloremque laudantium\, totam rem aperiam\, eaque ipsa quae ab illo inventore veritatis et quasi architecto beatae vitae dicta sunt explicabo. Nemo enim ipsam voluptatem quia voluptas sit aspernatur aut odit aut fugit\, sed quia consequuntur magni dolores eos qui ratione voluptatem sequi nesciunt.
URL:https://rixingmachinery.co.ke/event/6-days-5-nights-dubai-safari-from-nairobi-kenya-to-dubai/
LOCATION:New York\, 8 King Street\, NY\, 101\, United States
CATEGORIES:Dubai Holiday Packages,Holiday Packages,Seminars
ATTACH;FMTTYPE=image/jpeg:https://rixingmachinery.co.ke/wp-content/uploads/2023/01/event-1.jpg
ORGANIZER;CN="Gary Jones":MAILTO:events@example.com
END:VEVENT
BEGIN:VEVENT
DTSTART;TZID=UTC:20240111T080000
DTEND;TZID=UTC:20240111T170000
DTSTAMP:20260421T022252
CREATED:20230111T041010Z
LAST-MODIFIED:20250420T151025Z
UID:260-1704960000-1704992400@rixingmachinery.co.ke
SUMMARY:6 DAYS 5 NIGHTS DUBAI SAFARI
DESCRIPTION:Sed ut perspiciatis unde omnis iste natus error sit voluptatem accusantium doloremque laudantium\, totam rem aperiam\, eaque ipsa quae ab illo. \nSed ut perspiciatis unde omnis iste natus error sit voluptatem accusantium doloremque laudantium\, totam rem aperiam\, eaque ipsa quae ab illo inventore veritatis et quasi architecto beatae vitae dicta sunt explicabo. Nemo enim ipsam voluptatem quia voluptas sit aspernatur aut odit aut fugit\, sed quia consequuntur magni dolores eos qui ratione voluptatem sequi nesciunt.
URL:https://rixingmachinery.co.ke/event/6-days-5-nights-dubai-safari/
LOCATION:New York\, 8 King Street\, NY\, 101\, United States
CATEGORIES:Dubai Holiday Packages,Holiday Packages
ATTACH;FMTTYPE=image/jpeg:https://rixingmachinery.co.ke/wp-content/uploads/2023/01/event-3.jpg
ORGANIZER;CN="Gary Jones":MAILTO:events@example.com
END:VEVENT
END:VCALENDAR